BEGIN:VCALENDAR
VERSION:2.0
PRODID:-//Stutzmans Greenhouse &amp; Garden Centers - ECPv6.15.20//NONSGML v1.0//EN
CALSCALE:GREGORIAN
METHOD:PUBLISH
X-ORIGINAL-URL:https://stutzmans.com
X-WR-CALDESC:Events for Stutzmans Greenhouse &amp; Garden Centers
REFRESH-INTERVAL;VALUE=DURATION:PT1H
X-Robots-Tag:noindex
X-PUBLISHED-TTL:PT1H
BEGIN:VTIMEZONE
TZID:UTC
BEGIN:STANDARD
TZOFFSETFROM:+0000
TZOFFSETTO:+0000
TZNAME:UTC
DTSTART:20230101T000000
END:STANDARD
END:VTIMEZONE
BEGIN:VEVENT
DTSTART;TZID=UTC:20240928T080000
DTEND;TZID=UTC:20240928T170000
DTSTAMP:20260420T203905
CREATED:20240909T163900Z
LAST-MODIFIED:20240909T163900Z
UID:40556-1727510400-1727542800@stutzmans.com
SUMMARY:2024 Fall Festival
DESCRIPTION:All 12 locations will be celebrating fall with specials and fun events! \n  \n  \nShare this:\n				Email a link to a friend (Opens in new window)\n				Email\n			\n				Print (Opens in new window)\n				Print\n			\n				Share on Facebook (Opens in new window)\n				Facebook\n			\n				Share on X (Opens in new window)\n				X\n			\n				Share on Pinterest (Opens in new window)\n				Pinterest
URL:https://stutzmans.com/event/2024-fall-festival/
END:VEVENT
END:VCALENDAR