BEGIN:VCALENDAR
VERSION:2.0
PRODID:-//Stutzmans Greenhouse &amp; Garden Centers - ECPv6.15.20//NONSGML v1.0//EN
CALSCALE:GREGORIAN
METHOD:PUBLISH
X-WR-CALNAME:Stutzmans Greenhouse &amp; Garden Centers
X-ORIGINAL-URL:https://stutzmans.com
X-WR-CALDESC:Events for Stutzmans Greenhouse &amp; Garden Centers
REFRESH-INTERVAL;VALUE=DURATION:PT1H
X-Robots-Tag:noindex
X-PUBLISHED-TTL:PT1H
BEGIN:VTIMEZONE
TZID:UTC
BEGIN:STANDARD
TZOFFSETFROM:+0000
TZOFFSETTO:+0000
TZNAME:UTC
DTSTART:20240101T000000
END:STANDARD
END:VTIMEZONE
BEGIN:VEVENT
DTSTART;TZID=UTC:20251205T170000
DTEND;TZID=UTC:20251205T210000
DTSTAMP:20260421T175517
CREATED:20250523T151305Z
LAST-MODIFIED:20251117T165045Z
UID:41653-1764954000-1764968400@stutzmans.com
SUMMARY:2025 Evening Aglow
DESCRIPTION:  \n2025 Evening Aglow\nFREE Christmas Music Concert\nComplimentary shuttles will be provided \n***update – the Grinch will be joining us*****  \nFriday\, December 5\, 2025 – 5PM to 9PM \nPlease join us at our greenhouse in Pleasantview\, KS as it is transformed into a Winter Wonderland.  Bring the whole family and be sure to take lots of pictures too!  We will be serving light refreshments and the Rendezvous will join us with their delicious coffee selections!.  We will have four separate groups singing your favorite Christmas songs and carols.  Here is the lineup: \n5PM to 6PM \nColor Green \nGospel & Bluegrass Band \n  \n6PM to 7PM \nHutchinson High School Harmonics and Expressives \n  \n7PM to 8PM \nBuhler High School Singers \n  \n8PM to 9PM \nSterling College Singers \nJoin us! \n\n\nStutzmans Greenhouse & Gift Gallery in Pleasantview\nloading map - please wait...Map could not be loaded - please enable Javascript!→ more information \n\nStutzmans Greenhouse & Gift Gallery in Pleasantview\n37.996224\, -98.032915\n\n\n\n \nDelicious Coffees and more \n6807 W K 61 Hwy\, Hutchinson\, KS 67501\, United States\, Partridge\, KS\, United States\, Kansas \nthecoffeerendezvous.com \nShare this:\n				Email a link to a friend (Opens in new window)\n				Email\n			\n				Print (Opens in new window)\n				Print\n			\n				Share on Facebook (Opens in new window)\n				Facebook\n			\n				Share on X (Opens in new window)\n				X\n			\n				Share on Pinterest (Opens in new window)\n				Pinterest
URL:https://stutzmans.com/event/2025-evening-aglow/
LOCATION:Stutzmans Greenhouse & Gift Gallery\, 6709 W Hwy 61\, Hutchinson\, 67501
END:VEVENT
END:VCALENDAR